BEGIN:VCALENDAR
VERSION:2.0
PRODID:-//NAYGN - ECPv6.15.17.1//NONSGML v1.0//EN
CALSCALE:GREGORIAN
METHOD:PUBLISH
X-WR-CALNAME:NAYGN
X-ORIGINAL-URL:https://naygn.org
X-WR-CALDESC:Events for NAYGN
REFRESH-INTERVAL;VALUE=DURATION:PT1H
X-Robots-Tag:noindex
X-PUBLISHED-TTL:PT1H
BEGIN:VTIMEZONE
TZID:America/New_York
BEGIN:DAYLIGHT
TZOFFSETFROM:-0500
TZOFFSETTO:-0400
TZNAME:EDT
DTSTART:20250309T070000
END:DAYLIGHT
BEGIN:STANDARD
TZOFFSETFROM:-0400
TZOFFSETTO:-0500
TZNAME:EST
DTSTART:20251102T060000
END:STANDARD
BEGIN:DAYLIGHT
TZOFFSETFROM:-0500
TZOFFSETTO:-0400
TZNAME:EDT
DTSTART:20260308T070000
END:DAYLIGHT
BEGIN:STANDARD
TZOFFSETFROM:-0400
TZOFFSETTO:-0500
TZNAME:EST
DTSTART:20261101T060000
END:STANDARD
BEGIN:DAYLIGHT
TZOFFSETFROM:-0500
TZOFFSETTO:-0400
TZNAME:EDT
DTSTART:20270314T070000
END:DAYLIGHT
BEGIN:STANDARD
TZOFFSETFROM:-0400
TZOFFSETTO:-0500
TZNAME:EST
DTSTART:20271107T060000
END:STANDARD
BEGIN:DAYLIGHT
TZOFFSETFROM:-0500
TZOFFSETTO:-0400
TZNAME:EDT
DTSTART:20280312T070000
END:DAYLIGHT
BEGIN:STANDARD
TZOFFSETFROM:-0400
TZOFFSETTO:-0500
TZNAME:EST
DTSTART:20281105T060000
END:STANDARD
END:VTIMEZONE
BEGIN:VEVENT
DTSTART;TZID=America/New_York:20260901T080000
DTEND;TZID=America/New_York:20260903T123000
DTSTAMP:20260421T033507
CREATED:20260116T234224Z
LAST-MODIFIED:20260413T192835Z
UID:20313-1788249600-1788438600@naygn.org
SUMMARY:2026 Northeast Regional Conference
DESCRIPTION:Hello Northeast Region!\nJoin us this upcoming September 1st-3rd for the NE Regional focused Conference. \nDates: September 1st to September 3rd\, 2026 \nLocation: Talen Energy East Mountain Business Center in Wilkes-Barre\, PA\n1190 E Mountain Blvd Wilkes-Barre\, PA 18711 \nCost of transportation to and from all events including baseball game\, are not included. Please utilize ride share when applicable. \nAgenda:\nDay 1: \nJoin us in a light grab-n-go breakfast\, discussions\, and breakouts focused on our future of nuclear topics. Lunch will provided as well mid-day. Day one will conclude with our very own Networking event located at the Courtyard Marriott. \n\n8am-4pm: Speakers and breakout sessions\n5pm-7pm: Networking event\n\nDay 2: \nJoin us for a light grab-n-go breakfast\, discussions\, and breakouts focused on our future in nuclear topics. Lunch will be provided at midday. Day two will conclude with a social event at the Rail Riders Stadium for a baseball game.\nNote: Please ensure you sign up for the baseball event as well as the tickets are listed separately from conference tickets. \n\n8am-4pm: Speakers and breakout sessions\n5pm: Bus for RailRiders Baseball Game (game starts at 5:30pm)\nAddress: Rail riders Baseball Stadium 235 Montage Mountain Rd Moosic\, PA 18507\n\nDay 3: \nDay three will conclude the conference with closing remarks\, followed by a tour of Susquehanna Power Plant.\nNote: Please ensure you sign up for the tour as well as the tickets listed separately from conference tickets. \n\n8:30am-12:30pm: Speakers and closing remarks\nPlant tour of Susquehanna Steam Electric Station (separate registration required)\nAddress: 769 Salem Blvd\, Berwick PA 18603\n\nAddresses:\n\nAirport: Wilkes-Barre/Scranton International Airport 100 Terminal Rd. Avoca PA 18641\nHotel: Courtyard by Marriott 879 Schechter Dr\, Wilkes-Barre Township PA 18702\nConference Center: East Mountain Business Center 1190 E Mountain Blvd Wilkes-Barre\, PA 18711\nBaseball Game: Rail riders Baseball Stadium 235 Montage Mountain Rd Moosic\, PA 18507\nSusquehanna Steam Electric Station: 769 Salem Blvd\, Berwick PA 18603\n\nLast day to sign up is August 7th. \nMore information coming soon!\nReach out to northeast@naygn.org with any questions!
URL:https://naygn.org/events/2026-northeast-regional-conference/
CATEGORIES:General Events
ATTACH;FMTTYPE=image/jpeg:https://naygn.org/wp-content/uploads/2026/01/2026-Northeast-Regional-Conference-Featured-Image.jpg
END:VEVENT
BEGIN:VEVENT
DTSTART;TZID=America/New_York:20260903T140000
DTEND;TZID=America/New_York:20260903T150000
DTSTAMP:20260421T033507
CREATED:20260415T014705Z
LAST-MODIFIED:20260415T035214Z
UID:20593-1788444000-1788447600@naygn.org
SUMMARY:September 2026 LCL Call
DESCRIPTION:Join us for the upcoming September 2026 LCL Call on Thursday\, Sept. 3\, 2026\, at 2:00pm – 3:00pm EDT. \nUse the Register button or click here to join!
URL:https://naygn.org/events/september-2026-lcl-call/
CATEGORIES:General Events
ATTACH;FMTTYPE=image/jpeg:https://naygn.org/wp-content/uploads/2026/04/September-2026-LCL-Call-Banner.jpg
END:VEVENT
BEGIN:VEVENT
DTSTART;VALUE=DATE:20260930
DTEND;VALUE=DATE:20261001
DTSTAMP:20260421T033507
CREATED:20251104T150812Z
LAST-MODIFIED:20260329T092626Z
UID:19751-1790726400-1790812799@naygn.org
SUMMARY:Submissions Due for Pillars of Engagement Contest: Networking
DESCRIPTION:Each quarter\, the NAYGN Engagement Committee will be spotlighting one of NAYGN’s pillars to drive events within this category at the regional level! All chapters are encouraged to participate by doing the following: \n\n\n\nHost a unique\, focused event within the quarter’s category\,\nSubmit metrics via the NAYGN website\, and\nUtilize the NAYGN communications request form to share a post-event recap to the NAYGN communications team.\n\n\n\nSubmissions are due for the Networking category!
URL:https://naygn.org/events/pillars-of-engagement-contest-networking-submissions-due/
CATEGORIES:General Events
ATTACH;FMTTYPE=image/jpeg:https://naygn.org/wp-content/uploads/2025/11/Pillars-of-Engagement-Contest-Q3-2026-1.jpg
END:VEVENT
BEGIN:VEVENT
DTSTART;TZID=America/New_York:20261006T150000
DTEND;TZID=America/New_York:20261006T160000
DTSTAMP:20260421T033507
CREATED:20260415T014909Z
LAST-MODIFIED:20260415T035250Z
UID:20595-1791298800-1791302400@naygn.org
SUMMARY:October 2026 LCL Call
DESCRIPTION:Join us for the upcoming October 2026 LCL Call on Tuesday October 6\, 2026\, at 3:00pm – 4:00pm EDT. \nUse the Register button or click here to join!
URL:https://naygn.org/events/october-2026-lcl-call/
CATEGORIES:General Events
ATTACH;FMTTYPE=image/jpeg:https://naygn.org/wp-content/uploads/2026/04/October-2026-LCL-Call-Banner.jpg
END:VEVENT
BEGIN:VEVENT
DTSTART;TZID=America/New_York:20261104T130000
DTEND;TZID=America/New_York:20261104T140000
DTSTAMP:20260421T033507
CREATED:20260415T015110Z
LAST-MODIFIED:20260415T035329Z
UID:20597-1793797200-1793800800@naygn.org
SUMMARY:November 2026 LCL Call
DESCRIPTION:Join us for the upcoming November 2026 LCL Call on Wednesday November 4\, 2026\, at 1:00pm – 2:00pm EDT. \nUse the Register button or click here to join!
URL:https://naygn.org/events/november-2026-lcl-call/
CATEGORIES:General Events
ATTACH;FMTTYPE=image/jpeg:https://naygn.org/wp-content/uploads/2026/04/November-2026-LCL-Call-Banner.jpg
END:VEVENT
BEGIN:VEVENT
DTSTART;TZID=America/New_York:20261203T120000
DTEND;TZID=America/New_York:20261203T130000
DTSTAMP:20260421T033507
CREATED:20260415T015250Z
LAST-MODIFIED:20260415T035404Z
UID:20599-1796299200-1796302800@naygn.org
SUMMARY:December 2026 LCL Call
DESCRIPTION:Join us for the upcoming December 2026 LCL Call on Thursday December 3\, 2026\, at 12:00pm – 1:00pm EDT. \nUse the Register button or click here to join!
URL:https://naygn.org/events/december-2026-lcl-call/
CATEGORIES:General Events
ATTACH;FMTTYPE=image/jpeg:https://naygn.org/wp-content/uploads/2026/04/December-2026-LCL-Call-Banner.jpg
END:VEVENT
BEGIN:VEVENT
DTSTART;TZID=America/New_York:20270106T140000
DTEND;TZID=America/New_York:20270106T150000
DTSTAMP:20260421T033507
CREATED:20260415T040123Z
LAST-MODIFIED:20260415T040123Z
UID:20602-1799244000-1799247600@naygn.org
SUMMARY:January 2027 LCL Call
DESCRIPTION:Join us for the upcoming January 2027 LCL Call on Wednesday January 6\, 2027\, at 2:00pm – 3:00pm EDT. \nUse the Register button or click here to join!
URL:https://naygn.org/events/january-2027-lcl-call/
CATEGORIES:General Events
ATTACH;FMTTYPE=image/jpeg:https://naygn.org/wp-content/uploads/2026/04/January-2027-LCL-Call-Banner.jpg
END:VEVENT
BEGIN:VEVENT
DTSTART;TZID=America/New_York:20270202T130000
DTEND;TZID=America/New_York:20270202T140000
DTSTAMP:20260421T033507
CREATED:20260415T040623Z
LAST-MODIFIED:20260415T040901Z
UID:20604-1801573200-1801576800@naygn.org
SUMMARY:February 2027 LCL Call
DESCRIPTION:Join us for the upcoming February 2027 LCL Call on Wednesday February 2\, 2027\, at 1:00pm – 2:00pm EDT. \nUse the Register button or click here to join!
URL:https://naygn.org/events/february-2027-lcl-call/
CATEGORIES:General Events
ATTACH;FMTTYPE=image/jpeg:https://naygn.org/wp-content/uploads/2026/04/Februrary-2027-LCL-Call-Banner.jpg
END:VEVENT
BEGIN:VEVENT
DTSTART;TZID=America/New_York:20270303T150000
DTEND;TZID=America/New_York:20270303T160000
DTSTAMP:20260421T033507
CREATED:20260416T021507Z
LAST-MODIFIED:20260416T021507Z
UID:20617-1804086000-1804089600@naygn.org
SUMMARY:March 2027 LCL Call
DESCRIPTION:Join us for the upcoming March 2027 LCL Call on Wednesday March 3\, 2027\, at 3:00pm – 4:00pm EDT. \nUse the Register button or click here to join!
URL:https://naygn.org/events/march-2027-lcl-call/
CATEGORIES:General Events
ATTACH;FMTTYPE=image/jpeg:https://naygn.org/wp-content/uploads/2026/04/March-2027-LCL-Call-Banner.jpg
END:VEVENT
BEGIN:VEVENT
DTSTART;TZID=America/New_York:20270401T140000
DTEND;TZID=America/New_York:20270401T150000
DTSTAMP:20260421T033507
CREATED:20260416T021958Z
LAST-MODIFIED:20260416T021958Z
UID:20619-1806588000-1806591600@naygn.org
SUMMARY:April 2027 LCL Call
DESCRIPTION:Join us for the upcoming April 2027 LCL Call on Wednesday April 1\, 2027\, at 2:00pm – 3:00pm EDT. \nUse the Register button or click here to join!
URL:https://naygn.org/events/april-2027-lcl-call/
CATEGORIES:General Events
ATTACH;FMTTYPE=image/jpeg:https://naygn.org/wp-content/uploads/2026/04/April-2027-LCL-Call-Banner.jpg
END:VEVENT
BEGIN:VEVENT
DTSTART;TZID=America/New_York:20270504T120000
DTEND;TZID=America/New_York:20270504T130000
DTSTAMP:20260421T033507
CREATED:20260416T022645Z
LAST-MODIFIED:20260416T022645Z
UID:20621-1809432000-1809435600@naygn.org
SUMMARY:May 2027 LCL Call
DESCRIPTION:Join us for the upcoming May 2027 LCL Call on Tuesday May 4\, 2027\, at 12:00pm – 1:00pm EDT. \nUse the Register button or click here to join!
URL:https://naygn.org/events/may-2027-lcl-call/
CATEGORIES:General Events
ATTACH;FMTTYPE=image/jpeg:https://naygn.org/wp-content/uploads/2026/04/May-2027-LCL-Call-Banner.jpg
END:VEVENT
BEGIN:VEVENT
DTSTART;TZID=America/New_York:20270602T130000
DTEND;TZID=America/New_York:20270602T140000
DTSTAMP:20260421T033507
CREATED:20260416T022949Z
LAST-MODIFIED:20260416T022949Z
UID:20623-1811941200-1811944800@naygn.org
SUMMARY:June 2027 LCL Call
DESCRIPTION:Join us for the upcoming June 2027 LCL Call on Wednesday June 2\, 2027\, at 1:00pm – 2:00pm EDT. \nUse the Register button or click here to join!
URL:https://naygn.org/events/june-2027-lcl-call/
CATEGORIES:General Events
ATTACH;FMTTYPE=image/jpeg:https://naygn.org/wp-content/uploads/2026/04/June-2027-LCL-Call-Banner.jpg
END:VEVENT
BEGIN:VEVENT
DTSTART;TZID=America/New_York:20270708T140000
DTEND;TZID=America/New_York:20270708T150000
DTSTAMP:20260421T033507
CREATED:20260416T023254Z
LAST-MODIFIED:20260416T023254Z
UID:20625-1815055200-1815058800@naygn.org
SUMMARY:July 2027 LCL Call
DESCRIPTION:Join us for the upcoming July 2027 LCL Call on Thursday July 8\, 2027\, at 2:00pm – 3:00pm EDT. \nUse the Register button or click here to join!
URL:https://naygn.org/events/july-2027-lcl-call/
CATEGORIES:General Events
ATTACH;FMTTYPE=image/jpeg:https://naygn.org/wp-content/uploads/2026/04/July-2027-LCL-Call-Banner.jpg
END:VEVENT
BEGIN:VEVENT
DTSTART;TZID=America/New_York:20270803T150000
DTEND;TZID=America/New_York:20270803T160000
DTSTAMP:20260421T033507
CREATED:20260416T023451Z
LAST-MODIFIED:20260416T023451Z
UID:20627-1817305200-1817308800@naygn.org
SUMMARY:August 2027 LCL Call
DESCRIPTION:Join us for the upcoming August 2027 LCL Call on Tuesday August 3\, 2027\, at 3:00pm – 4:00pm EDT. \nUse the Register button or click here to join!
URL:https://naygn.org/events/august-2027-lcl-call/
CATEGORIES:General Events
ATTACH;FMTTYPE=image/jpeg:https://naygn.org/wp-content/uploads/2026/04/August-2027-LCL-Call-Banner.jpg
END:VEVENT
BEGIN:VEVENT
DTSTART;TZID=America/New_York:20270901T120000
DTEND;TZID=America/New_York:20270901T130000
DTSTAMP:20260421T033507
CREATED:20260416T023635Z
LAST-MODIFIED:20260416T023635Z
UID:20630-1819800000-1819803600@naygn.org
SUMMARY:September 2027 LCL Call
DESCRIPTION:Join us for the upcoming September 2027 LCL Call on Wednesday September 1\, 2027\, at 12:00pm – 1:00pm EDT. \nUse the Register button or click here to join!
URL:https://naygn.org/events/september-2027-lcl-call/
CATEGORIES:General Events
ATTACH;FMTTYPE=image/jpeg:https://naygn.org/wp-content/uploads/2026/04/September-2027-LCL-Call-Banner.jpg
END:VEVENT
BEGIN:VEVENT
DTSTART;TZID=America/New_York:20271007T130000
DTEND;TZID=America/New_York:20271007T140000
DTSTAMP:20260421T033507
CREATED:20260416T023822Z
LAST-MODIFIED:20260416T023822Z
UID:20632-1822914000-1822917600@naygn.org
SUMMARY:October 2027 LCL Call
DESCRIPTION:Join us for the upcoming October 2027 LCL Call on Thursday October 7\, 2027\, at 1:00pm – 2:00pm EDT. \nUse the Register button or click here to join!
URL:https://naygn.org/events/october-2027-lcl-call/
CATEGORIES:General Events
ATTACH;FMTTYPE=image/jpeg:https://naygn.org/wp-content/uploads/2026/04/October-2027-LCL-Call-Banner.jpg
END:VEVENT
BEGIN:VEVENT
DTSTART;TZID=America/New_York:20271102T140000
DTEND;TZID=America/New_York:20271102T150000
DTSTAMP:20260421T033507
CREATED:20260416T024020Z
LAST-MODIFIED:20260416T024020Z
UID:20634-1825164000-1825167600@naygn.org
SUMMARY:November 2027 LCL Call
DESCRIPTION:Join us for the upcoming November 2027 LCL Call on Tuesday November 2\, 2027\, at 2:00pm – 3:00pm EDT. \nUse the Register button or click here to join!
URL:https://naygn.org/events/november-2027-lcl-call/
CATEGORIES:General Events
ATTACH;FMTTYPE=image/jpeg:https://naygn.org/wp-content/uploads/2026/04/November-2027-LCL-Call-Banner.jpg
END:VEVENT
BEGIN:VEVENT
DTSTART;TZID=America/New_York:20271201T150000
DTEND;TZID=America/New_York:20271201T160000
DTSTAMP:20260421T033507
CREATED:20260416T024215Z
LAST-MODIFIED:20260416T024215Z
UID:20636-1827673200-1827676800@naygn.org
SUMMARY:December 2027 LCL Call
DESCRIPTION:Join us for the upcoming December 2027 LCL Call on Wednesday December 1\, 2027\, at 3:00pm – 4:00pm EDT. \nUse the Register button or click here to join!
URL:https://naygn.org/events/december-2027-lcl-call/
CATEGORIES:General Events
ATTACH;FMTTYPE=image/jpeg:https://naygn.org/wp-content/uploads/2026/04/December-2027-LCL-Call-Banner.jpg
END:VEVENT
END:VCALENDAR