BEGIN:VCALENDAR
VERSION:2.0
PRODID:-//NAYGN - ECPv6.15.17.1//NONSGML v1.0//EN
CALSCALE:GREGORIAN
METHOD:PUBLISH
X-ORIGINAL-URL:https://naygn.org
X-WR-CALDESC:Events for NAYGN
REFRESH-INTERVAL;VALUE=DURATION:PT1H
X-Robots-Tag:noindex
X-PUBLISHED-TTL:PT1H
BEGIN:VTIMEZONE
TZID:America/New_York
BEGIN:DAYLIGHT
TZOFFSETFROM:-0500
TZOFFSETTO:-0400
TZNAME:EDT
DTSTART:20200308T070000
END:DAYLIGHT
BEGIN:STANDARD
TZOFFSETFROM:-0400
TZOFFSETTO:-0500
TZNAME:EST
DTSTART:20201101T060000
END:STANDARD
BEGIN:DAYLIGHT
TZOFFSETFROM:-0500
TZOFFSETTO:-0400
TZNAME:EDT
DTSTART:20210314T070000
END:DAYLIGHT
BEGIN:STANDARD
TZOFFSETFROM:-0400
TZOFFSETTO:-0500
TZNAME:EST
DTSTART:20211107T060000
END:STANDARD
BEGIN:DAYLIGHT
TZOFFSETFROM:-0500
TZOFFSETTO:-0400
TZNAME:EDT
DTSTART:20220313T070000
END:DAYLIGHT
BEGIN:STANDARD
TZOFFSETFROM:-0400
TZOFFSETTO:-0500
TZNAME:EST
DTSTART:20221106T060000
END:STANDARD
END:VTIMEZONE
BEGIN:VEVENT
DTSTART;TZID=America/New_York:20211011T160000
DTEND;TZID=America/New_York:20211011T170000
DTSTAMP:20260421T102107
CREATED:20210929T103525Z
LAST-MODIFIED:20240713T011333Z
UID:11833-1633968000-1633971600@naygn.org
SUMMARY:Be a DE&I Champion!
DESCRIPTION:Description\n  \nTo celebrate National Coming Out Day\, oSTEM and NAYGN are partnering for a panel on what it means to be a champion for Diversity\, Equity\, & Inclusion in the workplace. Attendees of this panel will hear experiences about how professionals in oSTEM and NAYGN have implemented change and promoted DEI activism in their professional lives. This event promotes being an advocate for your own community as well as an ally for other communities. Join us October 11th at 4pm (EST) to hear from our variety of members on these important topics. \n  \nLocation\nWeb-Ex\nRegistration\n  \nStay tuned for the registration link!
URL:https://naygn.org/events/be-a-dei-champion/
ATTACH;FMTTYPE=image/png:https://naygn.org/wp-content/uploads/2021/09/oSTEM.png
END:VEVENT
BEGIN:VEVENT
DTSTART;TZID=America/New_York:20211013T160000
DTEND;TZID=America/New_York:20211013T163000
DTSTAMP:20260421T102107
CREATED:20210930T000645Z
LAST-MODIFIED:20240713T011333Z
UID:11846-1634140800-1634142600@naygn.org
SUMMARY:NAYGN Benchmarking Committee
DESCRIPTION:The NAYGN Benchmarking Committee meets every two weeks. Email benchmarking@naygn.org to join the committee
URL:https://naygn.org/events/naygn-benchmarking-committee/
END:VEVENT
BEGIN:VEVENT
DTSTART;TZID=America/New_York:20211014T190000
DTEND;TZID=America/New_York:20211014T203000
DTSTAMP:20260421T102107
CREATED:20210929T111825Z
LAST-MODIFIED:20240713T011333Z
UID:11841-1634238000-1634243400@naygn.org
SUMMARY:Hispanic Heritage Movie Night
DESCRIPTION:Register
URL:https://naygn.org/events/hispanic-heritage-movie-night/
ATTACH;FMTTYPE=image/jpeg:https://naygn.org/wp-content/uploads/2021/09/Street-Food-Latinoamérica-1200x675-1.jpg
END:VEVENT
BEGIN:VEVENT
DTSTART;TZID=America/New_York:20211015T080000
DTEND;TZID=America/New_York:20211015T170000
DTSTAMP:20260421T102107
CREATED:20210930T013216Z
LAST-MODIFIED:20240713T011332Z
UID:11854-1634284800-1634317200@naygn.org
SUMMARY:NAYGN Atlantic Region Virtual Conference
DESCRIPTION:The NAYGN Atlantic Region comes together for the latest technical insights in the industry\, professional development\, and networking! \n\n\n\n \n\n\n\n\nRegister
URL:https://naygn.org/events/naygn-atlantic-region-virtual-conference/
ATTACH;FMTTYPE=image/png:https://naygn.org/wp-content/uploads/2021/09/2021-atlantic-conf.png
END:VEVENT
BEGIN:VEVENT
DTSTART;TZID=America/New_York:20211018T000000
DTEND;TZID=America/New_York:20211022T235959
DTSTAMP:20260421T102107
CREATED:20211018T040053Z
LAST-MODIFIED:20240713T011332Z
UID:11777-1634515200-1634947199@naygn.org
SUMMARY:Nuclear Science Week
DESCRIPTION:Nuclear Science Week is just around the corner! October 18 – 22! Nuclear Science Week is an international\, broadly observed week-long celebration to focus local\, regional and international interest on all aspects of nuclear science. Stay tuned to NAYGN’s social media pages for events throughout the week. In addition\, check out nuclearscienceweek.org for more information and events that your chapter can participate in! \n  \n  \n  \n\n\nfacebooktwitterlinkedininstagramyoutube
URL:https://naygn.org/events/nuclear-science-week/
ATTACH;FMTTYPE=image/jpeg:https://naygn.org/wp-content/uploads/2021/09/NSW_black_background.jpg
END:VEVENT
BEGIN:VEVENT
DTSTART;TZID=America/New_York:20211027T040000
DTEND;TZID=America/New_York:20211027T163000
DTSTAMP:20260421T102107
CREATED:20210930T000842Z
LAST-MODIFIED:20240713T011332Z
UID:11847-1635307200-1635352200@naygn.org
SUMMARY:NAYGN Benchmarking Committee
DESCRIPTION:
URL:https://naygn.org/events/naygn-benchmarking-committee-2/
END:VEVENT
BEGIN:VEVENT
DTSTART;TZID=America/New_York:20211027T120000
DTEND;TZID=America/New_York:20211027T130000
DTSTAMP:20260421T102107
CREATED:20210930T010541Z
LAST-MODIFIED:20240713T011332Z
UID:11850-1635336000-1635339600@naygn.org
SUMMARY:NAYGN Engagement Committee
DESCRIPTION:The NAYGN Engagement Committee meets the last Wednesday of the month. Email engagement@naygn.org to join the committee
URL:https://naygn.org/events/naygn-engagement-committee/
END:VEVENT
END:VCALENDAR