BEGIN:VCALENDAR
VERSION:2.0
PRODID:-//NAYGN - ECPv6.15.17.1//NONSGML v1.0//EN
CALSCALE:GREGORIAN
METHOD:PUBLISH
X-ORIGINAL-URL:https://naygn.org
X-WR-CALDESC:Events for NAYGN
REFRESH-INTERVAL;VALUE=DURATION:PT1H
X-Robots-Tag:noindex
X-PUBLISHED-TTL:PT1H
BEGIN:VTIMEZONE
TZID:America/New_York
BEGIN:DAYLIGHT
TZOFFSETFROM:-0500
TZOFFSETTO:-0400
TZNAME:EDT
DTSTART:20200308T070000
END:DAYLIGHT
BEGIN:STANDARD
TZOFFSETFROM:-0400
TZOFFSETTO:-0500
TZNAME:EST
DTSTART:20201101T060000
END:STANDARD
BEGIN:DAYLIGHT
TZOFFSETFROM:-0500
TZOFFSETTO:-0400
TZNAME:EDT
DTSTART:20210314T070000
END:DAYLIGHT
BEGIN:STANDARD
TZOFFSETFROM:-0400
TZOFFSETTO:-0500
TZNAME:EST
DTSTART:20211107T060000
END:STANDARD
BEGIN:DAYLIGHT
TZOFFSETFROM:-0500
TZOFFSETTO:-0400
TZNAME:EDT
DTSTART:20220313T070000
END:DAYLIGHT
BEGIN:STANDARD
TZOFFSETFROM:-0400
TZOFFSETTO:-0500
TZNAME:EST
DTSTART:20221106T060000
END:STANDARD
END:VTIMEZONE
BEGIN:VEVENT
DTSTART;TZID=America/New_York:20211108T000000
DTEND;TZID=America/New_York:20211110T235959
DTSTAMP:20260421T113731
CREATED:20211020T064809Z
LAST-MODIFIED:20240713T011332Z
UID:11906-1636329600-1636588799@naygn.org
SUMMARY:2021 Southeast Regional Conference
DESCRIPTION:The Southeast Regional Conference is coming up in November!  IN PERSON!  We’re so excited to finally get to see each other again! Check out the details below and don’t forget to register!  \n\n\n\nWHEN: November 8 – 10  \n\n\n\nWHERE: Southern Nuclear Company’s North Tower Energy Center in Birmingham\, AL \n\n\n\nTHEME: Sparking Change Today for a Cleaner Sustainable Future Tomorrow \n\n\n\nDon’t miss this one!  We have a great conference for you planned with the honorable Kristine Svinicki as our keynote speaker! \n\n\n\nEmail southeast@naygn.org if you have any questions. \n\n\n\n\nRegister
URL:https://naygn.org/events/southeast-conference-2021/
ATTACH;FMTTYPE=image/png:https://naygn.org/wp-content/uploads/2021/10/SoutheastConf2021.png
END:VEVENT
BEGIN:VEVENT
DTSTART;TZID=America/New_York:20211110T160000
DTEND;TZID=America/New_York:20211110T163000
DTSTAMP:20260421T113731
CREATED:20210930T001443Z
LAST-MODIFIED:20240713T011332Z
UID:11848-1636560000-1636561800@naygn.org
SUMMARY:NAYGN Benchmarking Committee
DESCRIPTION:
URL:https://naygn.org/events/naygn-benchmarking-committee-3/
END:VEVENT
BEGIN:VEVENT
DTSTART;TZID=America/New_York:20211111T000000
DTEND;TZID=America/New_York:20211111T235959
DTSTAMP:20260421T113731
CREATED:20211020T065820Z
LAST-MODIFIED:20240713T011332Z
UID:11908-1636588800-1636675199@naygn.org
SUMMARY:2021 Carolinas Regional Conference
DESCRIPTION:Join local chapter members and industry professionals for the annual NAYGN Carolinas Regional Conference! Conference sessions are being held virtually this year and the conference is free to attend. Enjoy professional development and networking sessions with peers from all around the Carolinas! \n\n\n\nProfessional development sessions will take place during business hours on Thursday\, 11/11. Social networking events (whether virtual or in-person) will take place the night before and the evening after the conference. \n\n\n\n\nRegister
URL:https://naygn.org/events/2021-carolinas-regional-conference/
ATTACH;FMTTYPE=image/png:https://naygn.org/wp-content/uploads/2021/09/CRC-2021-6.png
END:VEVENT
BEGIN:VEVENT
DTSTART;TZID=America/New_York:20211124T120000
DTEND;TZID=America/New_York:20211124T130000
DTSTAMP:20260421T113731
CREATED:20210930T011316Z
LAST-MODIFIED:20240713T011331Z
UID:11852-1637755200-1637758800@naygn.org
SUMMARY:NAYGN Engagement Committee
DESCRIPTION:The NAYGN Engagement Committee meets the last Wednesday of the month. Email engagement@naygn.org to join the committee
URL:https://naygn.org/events/naygn-engagement-committee-2/
END:VEVENT
END:VCALENDAR