BEGIN:VCALENDAR
VERSION:2.0
PRODID:-//NAYGN - ECPv6.15.17.1//NONSGML v1.0//EN
CALSCALE:GREGORIAN
METHOD:PUBLISH
X-WR-CALNAME:NAYGN
X-ORIGINAL-URL:https://naygn.org
X-WR-CALDESC:Events for NAYGN
REFRESH-INTERVAL;VALUE=DURATION:PT1H
X-Robots-Tag:noindex
X-PUBLISHED-TTL:PT1H
BEGIN:VTIMEZONE
TZID:America/New_York
BEGIN:DAYLIGHT
TZOFFSETFROM:-0500
TZOFFSETTO:-0400
TZNAME:EDT
DTSTART:20210314T070000
END:DAYLIGHT
BEGIN:STANDARD
TZOFFSETFROM:-0400
TZOFFSETTO:-0500
TZNAME:EST
DTSTART:20211107T060000
END:STANDARD
BEGIN:DAYLIGHT
TZOFFSETFROM:-0500
TZOFFSETTO:-0400
TZNAME:EDT
DTSTART:20220313T070000
END:DAYLIGHT
BEGIN:STANDARD
TZOFFSETFROM:-0400
TZOFFSETTO:-0500
TZNAME:EST
DTSTART:20221106T060000
END:STANDARD
BEGIN:DAYLIGHT
TZOFFSETFROM:-0500
TZOFFSETTO:-0400
TZNAME:EDT
DTSTART:20230312T070000
END:DAYLIGHT
BEGIN:STANDARD
TZOFFSETFROM:-0400
TZOFFSETTO:-0500
TZNAME:EST
DTSTART:20231105T060000
END:STANDARD
END:VTIMEZONE
BEGIN:VEVENT
DTSTART;TZID=America/New_York:20220429T000000
DTEND;TZID=America/New_York:20220429T235959
DTSTAMP:20260423T055808
CREATED:20220211T180617Z
LAST-MODIFIED:20240718T043643Z
UID:12028-1651190400-1651276799@naygn.org
SUMMARY:2022 Q2 Excellence Awards Close
DESCRIPTION:Nominations for 2022 Q1 Excellence Awards will close on April 29.  Make sure you make your nominations before the deadline! \n\n\n\n \n\n\n\n\n2022 Q1 Excellence Award Nominations
URL:https://naygn.org/events/2022-q2-excellence-awards-close/
CATEGORIES:General Events
END:VEVENT
END:VCALENDAR